BEGIN:VCALENDAR
VERSION:2.0
PRODID:-//Reconciled Church - ECPv6.15.20//NONSGML v1.0//EN
CALSCALE:GREGORIAN
METHOD:PUBLISH
X-ORIGINAL-URL:https://reconciledchurch.org
X-WR-CALDESC:Events for Reconciled Church
REFRESH-INTERVAL;VALUE=DURATION:PT1H
X-Robots-Tag:noindex
X-PUBLISHED-TTL:PT1H
BEGIN:VTIMEZONE
TZID:America/New_York
BEGIN:DAYLIGHT
TZOFFSETFROM:-0500
TZOFFSETTO:-0400
TZNAME:EDT
DTSTART:20220313T070000
END:DAYLIGHT
BEGIN:STANDARD
TZOFFSETFROM:-0400
TZOFFSETTO:-0500
TZNAME:EST
DTSTART:20221106T060000
END:STANDARD
BEGIN:DAYLIGHT
TZOFFSETFROM:-0500
TZOFFSETTO:-0400
TZNAME:EDT
DTSTART:20230312T070000
END:DAYLIGHT
BEGIN:STANDARD
TZOFFSETFROM:-0400
TZOFFSETTO:-0500
TZNAME:EST
DTSTART:20231105T060000
END:STANDARD
BEGIN:DAYLIGHT
TZOFFSETFROM:-0500
TZOFFSETTO:-0400
TZNAME:EDT
DTSTART:20240310T070000
END:DAYLIGHT
BEGIN:STANDARD
TZOFFSETFROM:-0400
TZOFFSETTO:-0500
TZNAME:EST
DTSTART:20241103T060000
END:STANDARD
END:VTIMEZONE
BEGIN:VEVENT
DTSTART;TZID=America/New_York:20230528T130000
DTEND;TZID=America/New_York:20230528T160000
DTSTAMP:20260419T175538
CREATED:20230425T234351Z
LAST-MODIFIED:20230528T021803Z
UID:10001101-1685278800-1685289600@reconciledchurch.org
SUMMARY:Graduate Celebration BBQ/Potluck
DESCRIPTION:We will be celebrating this year’s graduates with a BBQ/potluck! For the address\, please email reconcilednyc@gmail.com. \nPlease sign up to bring items here: https://docs.google.com/spreadsheets/d/16l-GJzVcIE66uck7rnpz9H3J2bKX_tL86Z8H2wpNoDM/edit#gid=0
URL:https://reconciledchurch.org/event/celebration-for-graduates/
LOCATION:Lim Family Home
END:VEVENT
END:VCALENDAR