BEGIN:VCALENDAR
VERSION:2.0
PRODID:-//Reconciled Church - ECPv6.15.20//NONSGML v1.0//EN
CALSCALE:GREGORIAN
METHOD:PUBLISH
X-ORIGINAL-URL:https://reconciledchurch.org
X-WR-CALDESC:Events for Reconciled Church
REFRESH-INTERVAL;VALUE=DURATION:PT1H
X-Robots-Tag:noindex
X-PUBLISHED-TTL:PT1H
BEGIN:VTIMEZONE
TZID:America/New_York
BEGIN:DAYLIGHT
TZOFFSETFROM:-0500
TZOFFSETTO:-0400
TZNAME:EDT
DTSTART:20260308T070000
END:DAYLIGHT
BEGIN:STANDARD
TZOFFSETFROM:-0400
TZOFFSETTO:-0500
TZNAME:EST
DTSTART:20261101T060000
END:STANDARD
BEGIN:DAYLIGHT
TZOFFSETFROM:-0500
TZOFFSETTO:-0400
TZNAME:EDT
DTSTART:20270314T070000
END:DAYLIGHT
BEGIN:STANDARD
TZOFFSETFROM:-0400
TZOFFSETTO:-0500
TZNAME:EST
DTSTART:20271107T060000
END:STANDARD
BEGIN:DAYLIGHT
TZOFFSETFROM:-0500
TZOFFSETTO:-0400
TZNAME:EDT
DTSTART:20280312T070000
END:DAYLIGHT
BEGIN:STANDARD
TZOFFSETFROM:-0400
TZOFFSETTO:-0500
TZNAME:EST
DTSTART:20281105T060000
END:STANDARD
END:VTIMEZONE
BEGIN:VEVENT
DTSTART;TZID=America/New_York:20270509T100000
DTEND;TZID=America/New_York:20270509T113000
DTSTAMP:20260420T030706
CREATED:20250627T212040Z
LAST-MODIFIED:20260318T222305Z
UID:10002060-1809856800-1809862200@reconciledchurch.org
SUMMARY:Worship Service
DESCRIPTION:2nd Floor
URL:https://reconciledchurch.org/event/worship-service-231/
LOCATION:New York Academy\, 99 Bell Blvd\, Bayside\, NY\, United States
GEO:40.772102;-73.774475
X-APPLE-STRUCTURED-LOCATION;VALUE=URI;X-ADDRESS=New York Academy 99 Bell Blvd Bayside NY United States;X-APPLE-RADIUS=500;X-TITLE=99 Bell Blvd:geo:-73.774475,40.772102
END:VEVENT
BEGIN:VEVENT
DTSTART;TZID=America/New_York:20270509T123000
DTEND;TZID=America/New_York:20270509T143000
DTSTAMP:20260420T030706
CREATED:20250627T212041Z
LAST-MODIFIED:20260318T222305Z
UID:10002061-1809865800-1809873000@reconciledchurch.org
SUMMARY:Outreach Sunday
DESCRIPTION:
URL:https://reconciledchurch.org/event/outreach-sunday-22/
END:VEVENT
BEGIN:VEVENT
DTSTART;TZID=America/New_York:20270512T193000
DTEND;TZID=America/New_York:20270512T203000
DTSTAMP:20260420T030706
CREATED:20250627T212041Z
LAST-MODIFIED:20260318T222305Z
UID:10002062-1810150200-1810153800@reconciledchurch.org
SUMMARY:Bible Study
DESCRIPTION:
URL:https://reconciledchurch.org/event/bible-study-283/
END:VEVENT
END:VCALENDAR