BEGIN:VCALENDAR
VERSION:2.0
PRODID:-//Reconciled Church - ECPv6.15.20//NONSGML v1.0//EN
CALSCALE:GREGORIAN
METHOD:PUBLISH
X-ORIGINAL-URL:https://reconciledchurch.org
X-WR-CALDESC:Events for Reconciled Church
REFRESH-INTERVAL;VALUE=DURATION:PT1H
X-Robots-Tag:noindex
X-PUBLISHED-TTL:PT1H
BEGIN:VTIMEZONE
TZID:America/New_York
BEGIN:DAYLIGHT
TZOFFSETFROM:-0500
TZOFFSETTO:-0400
TZNAME:EDT
DTSTART:20260308T070000
END:DAYLIGHT
BEGIN:STANDARD
TZOFFSETFROM:-0400
TZOFFSETTO:-0500
TZNAME:EST
DTSTART:20261101T060000
END:STANDARD
BEGIN:DAYLIGHT
TZOFFSETFROM:-0500
TZOFFSETTO:-0400
TZNAME:EDT
DTSTART:20270314T070000
END:DAYLIGHT
BEGIN:STANDARD
TZOFFSETFROM:-0400
TZOFFSETTO:-0500
TZNAME:EST
DTSTART:20271107T060000
END:STANDARD
BEGIN:DAYLIGHT
TZOFFSETFROM:-0500
TZOFFSETTO:-0400
TZNAME:EDT
DTSTART:20280312T070000
END:DAYLIGHT
BEGIN:STANDARD
TZOFFSETFROM:-0400
TZOFFSETTO:-0500
TZNAME:EST
DTSTART:20281105T060000
END:STANDARD
END:VTIMEZONE
BEGIN:VEVENT
DTSTART;TZID=America/New_York:20270404T100000
DTEND;TZID=America/New_York:20270404T113000
DTSTAMP:20260420T030524
CREATED:20250627T212036Z
LAST-MODIFIED:20260318T222303Z
UID:10002047-1806832800-1806838200@reconciledchurch.org
SUMMARY:Worship Service
DESCRIPTION:2nd Floor
URL:https://reconciledchurch.org/event/worship-service-226/
LOCATION:New York Academy\, 99 Bell Blvd\, Bayside\, NY\, United States
GEO:40.772102;-73.774475
X-APPLE-STRUCTURED-LOCATION;VALUE=URI;X-ADDRESS=New York Academy 99 Bell Blvd Bayside NY United States;X-APPLE-RADIUS=500;X-TITLE=99 Bell Blvd:geo:-73.774475,40.772102
END:VEVENT
BEGIN:VEVENT
DTSTART;TZID=America/New_York:20270404T123000
DTEND;TZID=America/New_York:20270404T140000
DTSTAMP:20260420T030524
CREATED:20250627T212037Z
LAST-MODIFIED:20260318T222303Z
UID:10002048-1806841800-1806847200@reconciledchurch.org
SUMMARY:Men's & Women's Group Meeting
DESCRIPTION:
URL:https://reconciledchurch.org/event/mens-womens-group-meeting-25/
END:VEVENT
BEGIN:VEVENT
DTSTART;TZID=America/New_York:20270407T193000
DTEND;TZID=America/New_York:20270407T203000
DTSTAMP:20260420T030524
CREATED:20250627T212037Z
LAST-MODIFIED:20260318T222303Z
UID:10002049-1807126200-1807129800@reconciledchurch.org
SUMMARY:Bible Study
DESCRIPTION:
URL:https://reconciledchurch.org/event/bible-study-278/
END:VEVENT
END:VCALENDAR