BEGIN:VCALENDAR
VERSION:2.0
PRODID:-//Reconciled Church - ECPv6.15.20//NONSGML v1.0//EN
CALSCALE:GREGORIAN
METHOD:PUBLISH
X-WR-CALNAME:Reconciled Church
X-ORIGINAL-URL:https://reconciledchurch.org
X-WR-CALDESC:Events for Reconciled Church
REFRESH-INTERVAL;VALUE=DURATION:PT1H
X-Robots-Tag:noindex
X-PUBLISHED-TTL:PT1H
BEGIN:VTIMEZONE
TZID:America/New_York
BEGIN:DAYLIGHT
TZOFFSETFROM:-0500
TZOFFSETTO:-0400
TZNAME:EDT
DTSTART:20250309T070000
END:DAYLIGHT
BEGIN:STANDARD
TZOFFSETFROM:-0400
TZOFFSETTO:-0500
TZNAME:EST
DTSTART:20251102T060000
END:STANDARD
BEGIN:DAYLIGHT
TZOFFSETFROM:-0500
TZOFFSETTO:-0400
TZNAME:EDT
DTSTART:20260308T070000
END:DAYLIGHT
BEGIN:STANDARD
TZOFFSETFROM:-0400
TZOFFSETTO:-0500
TZNAME:EST
DTSTART:20261101T060000
END:STANDARD
BEGIN:DAYLIGHT
TZOFFSETFROM:-0500
TZOFFSETTO:-0400
TZNAME:EDT
DTSTART:20270314T070000
END:DAYLIGHT
BEGIN:STANDARD
TZOFFSETFROM:-0400
TZOFFSETTO:-0500
TZNAME:EST
DTSTART:20271107T060000
END:STANDARD
END:VTIMEZONE
BEGIN:VEVENT
DTSTART;TZID=America/New_York:20261004T100000
DTEND;TZID=America/New_York:20261004T113000
DTSTAMP:20260419T155251
CREATED:20241004T012606Z
LAST-MODIFIED:20260318T222256Z
UID:10001817-1791108000-1791113400@reconciledchurch.org
SUMMARY:Worship Service
DESCRIPTION:2nd Floor
URL:https://reconciledchurch.org/event/worship-service-200/
LOCATION:New York Academy\, 99 Bell Blvd\, Bayside\, NY\, United States
GEO:40.772102;-73.774475
X-APPLE-STRUCTURED-LOCATION;VALUE=URI;X-ADDRESS=New York Academy 99 Bell Blvd Bayside NY United States;X-APPLE-RADIUS=500;X-TITLE=99 Bell Blvd:geo:-73.774475,40.772102
END:VEVENT
BEGIN:VEVENT
DTSTART;TZID=America/New_York:20261004T123000
DTEND;TZID=America/New_York:20261004T140000
DTSTAMP:20260419T155251
CREATED:20241004T012606Z
LAST-MODIFIED:20241030T024100Z
UID:10001818-1791117000-1791122400@reconciledchurch.org
SUMMARY:Men's Group Meeting
DESCRIPTION:
URL:https://reconciledchurch.org/event/mens-group-meeting-33/
END:VEVENT
BEGIN:VEVENT
DTSTART;TZID=America/New_York:20261004T123000
DTEND;TZID=America/New_York:20261004T140000
DTSTAMP:20260419T155251
CREATED:20250212T231559Z
LAST-MODIFIED:20260318T222256Z
UID:10001602-1791117000-1791122400@reconciledchurch.org
SUMMARY:Men's & Women's Group Meeting
DESCRIPTION:
URL:https://reconciledchurch.org/event/mens-womens-group-meeting-19/
END:VEVENT
BEGIN:VEVENT
DTSTART;TZID=America/New_York:20261007T193000
DTEND;TZID=America/New_York:20261007T203000
DTSTAMP:20260419T155251
CREATED:20250627T212021Z
LAST-MODIFIED:20260318T222256Z
UID:10002011-1791401400-1791405000@reconciledchurch.org
SUMMARY:Bible Study
DESCRIPTION:
URL:https://reconciledchurch.org/event/bible-study-252/
END:VEVENT
BEGIN:VEVENT
DTSTART;TZID=America/New_York:20261007T193000
DTEND;TZID=America/New_York:20261007T210000
DTSTAMP:20260419T155251
CREATED:20250212T231559Z
LAST-MODIFIED:20250212T231559Z
UID:10001604-1791401400-1791406800@reconciledchurch.org
SUMMARY:Prayer & Bible Study
DESCRIPTION:
URL:https://reconciledchurch.org/event/prayer-bible-study-86/
END:VEVENT
BEGIN:VEVENT
DTSTART;TZID=America/New_York:20261008T193000
DTEND;TZID=America/New_York:20261008T210000
DTSTAMP:20260419T155251
CREATED:20241008T012612Z
LAST-MODIFIED:20241030T024100Z
UID:10001819-1791487800-1791493200@reconciledchurch.org
SUMMARY:Prayer Meeting
DESCRIPTION:
URL:https://reconciledchurch.org/event/prayer-meeting-139/
END:VEVENT
BEGIN:VEVENT
DTSTART;TZID=America/New_York:20261010T123000
DTEND;TZID=America/New_York:20261010T143000
DTSTAMP:20260419T155251
CREATED:20250212T231559Z
LAST-MODIFIED:20260318T222256Z
UID:10001606-1791635400-1791642600@reconciledchurch.org
SUMMARY:Outreach
DESCRIPTION:
URL:https://reconciledchurch.org/event/outreach-sunday-15/
END:VEVENT
END:VCALENDAR