BEGIN:VCALENDAR
VERSION:2.0
PRODID:-//Reconciled Church - ECPv6.15.20//NONSGML v1.0//EN
CALSCALE:GREGORIAN
METHOD:PUBLISH
X-ORIGINAL-URL:https://reconciledchurch.org
X-WR-CALDESC:Events for Reconciled Church
REFRESH-INTERVAL;VALUE=DURATION:PT1H
X-Robots-Tag:noindex
X-PUBLISHED-TTL:PT1H
BEGIN:VTIMEZONE
TZID:America/New_York
BEGIN:DAYLIGHT
TZOFFSETFROM:-0500
TZOFFSETTO:-0400
TZNAME:EDT
DTSTART:20250309T070000
END:DAYLIGHT
BEGIN:STANDARD
TZOFFSETFROM:-0400
TZOFFSETTO:-0500
TZNAME:EST
DTSTART:20251102T060000
END:STANDARD
BEGIN:DAYLIGHT
TZOFFSETFROM:-0500
TZOFFSETTO:-0400
TZNAME:EDT
DTSTART:20260308T070000
END:DAYLIGHT
BEGIN:STANDARD
TZOFFSETFROM:-0400
TZOFFSETTO:-0500
TZNAME:EST
DTSTART:20261101T060000
END:STANDARD
BEGIN:DAYLIGHT
TZOFFSETFROM:-0500
TZOFFSETTO:-0400
TZNAME:EDT
DTSTART:20270314T070000
END:DAYLIGHT
BEGIN:STANDARD
TZOFFSETFROM:-0400
TZOFFSETTO:-0500
TZNAME:EST
DTSTART:20271107T060000
END:STANDARD
END:VTIMEZONE
BEGIN:VEVENT
DTSTART;TZID=America/New_York:20260913T100000
DTEND;TZID=America/New_York:20260913T113000
DTSTAMP:20260419T123924
CREATED:20240913T002614Z
LAST-MODIFIED:20260318T222255Z
UID:10001508-1789293600-1789299000@reconciledchurch.org
SUMMARY:Worship Service
DESCRIPTION:2nd Floor
URL:https://reconciledchurch.org/event/worship-service-197/
LOCATION:New York Academy\, 99 Bell Blvd\, Bayside\, NY\, United States
GEO:40.772102;-73.774475
X-APPLE-STRUCTURED-LOCATION;VALUE=URI;X-ADDRESS=New York Academy 99 Bell Blvd Bayside NY United States;X-APPLE-RADIUS=500;X-TITLE=99 Bell Blvd:geo:-73.774475,40.772102
END:VEVENT
BEGIN:VEVENT
DTSTART;TZID=America/New_York:20260913T123000
DTEND;TZID=America/New_York:20260913T143000
DTSTAMP:20260419T123924
CREATED:20250212T231557Z
LAST-MODIFIED:20251103T062615Z
UID:10001915-1789302600-1789309800@reconciledchurch.org
SUMMARY:Outreach Sunday
DESCRIPTION:
URL:https://reconciledchurch.org/event/outreach-sunday-14/
END:VEVENT
BEGIN:VEVENT
DTSTART;TZID=America/New_York:20260915T190000
DTEND;TZID=America/New_York:20260915T203000
DTSTAMP:20260419T123924
CREATED:20240915T004118Z
LAST-MODIFIED:20240924T005652Z
UID:10001810-1789498800-1789504200@reconciledchurch.org
SUMMARY:Life Group Meetings
DESCRIPTION:Current locations: \n\nQueens\nStaten Island\n\nTo join a life group\, please email reconcilednyc@gmail.com!
URL:https://reconciledchurch.org/event/life-group-meetings-64/
END:VEVENT
BEGIN:VEVENT
DTSTART;TZID=America/New_York:20260916T193000
DTEND;TZID=America/New_York:20260916T203000
DTSTAMP:20260419T123924
CREATED:20250627T212020Z
LAST-MODIFIED:20260318T222255Z
UID:10002008-1789587000-1789590600@reconciledchurch.org
SUMMARY:Bible Study
DESCRIPTION:
URL:https://reconciledchurch.org/event/bible-study-247/
END:VEVENT
BEGIN:VEVENT
DTSTART;TZID=America/New_York:20260916T193000
DTEND;TZID=America/New_York:20260916T210000
DTSTAMP:20260419T123924
CREATED:20250212T231557Z
LAST-MODIFIED:20250212T231557Z
UID:10001596-1789587000-1789592400@reconciledchurch.org
SUMMARY:Prayer & Bible Study
DESCRIPTION:
URL:https://reconciledchurch.org/event/prayer-bible-study-83/
END:VEVENT
BEGIN:VEVENT
DTSTART;TZID=America/New_York:20260917T193000
DTEND;TZID=America/New_York:20260917T210000
DTSTAMP:20260419T123924
CREATED:20240917T004112Z
LAST-MODIFIED:20241030T024100Z
UID:10001811-1789673400-1789678800@reconciledchurch.org
SUMMARY:Prayer Meeting
DESCRIPTION:
URL:https://reconciledchurch.org/event/prayer-meeting-136/
END:VEVENT
END:VCALENDAR