BEGIN:VCALENDAR
VERSION:2.0
PRODID:-//Reconciled Church - ECPv6.15.20//NONSGML v1.0//EN
CALSCALE:GREGORIAN
METHOD:PUBLISH
X-ORIGINAL-URL:https://reconciledchurch.org
X-WR-CALDESC:Events for Reconciled Church
REFRESH-INTERVAL;VALUE=DURATION:PT1H
X-Robots-Tag:noindex
X-PUBLISHED-TTL:PT1H
BEGIN:VTIMEZONE
TZID:America/New_York
BEGIN:DAYLIGHT
TZOFFSETFROM:-0500
TZOFFSETTO:-0400
TZNAME:EDT
DTSTART:20230312T070000
END:DAYLIGHT
BEGIN:STANDARD
TZOFFSETFROM:-0400
TZOFFSETTO:-0500
TZNAME:EST
DTSTART:20231105T060000
END:STANDARD
BEGIN:DAYLIGHT
TZOFFSETFROM:-0500
TZOFFSETTO:-0400
TZNAME:EDT
DTSTART:20240310T070000
END:DAYLIGHT
BEGIN:STANDARD
TZOFFSETFROM:-0400
TZOFFSETTO:-0500
TZNAME:EST
DTSTART:20241103T060000
END:STANDARD
BEGIN:DAYLIGHT
TZOFFSETFROM:-0500
TZOFFSETTO:-0400
TZNAME:EDT
DTSTART:20250309T070000
END:DAYLIGHT
BEGIN:STANDARD
TZOFFSETFROM:-0400
TZOFFSETTO:-0500
TZNAME:EST
DTSTART:20251102T060000
END:STANDARD
END:VTIMEZONE
BEGIN:VEVENT
DTSTART;TZID=America/New_York:20240407T100000
DTEND;TZID=America/New_York:20240407T113000
DTSTAMP:20260421T154849
CREATED:20221129T065426Z
LAST-MODIFIED:20240407T015955Z
UID:10001025-1712484000-1712489400@reconciledchurch.org
SUMMARY:Worship Service
DESCRIPTION:2nd Floor
URL:https://reconciledchurch.org/event/worship-service-70/
LOCATION:New York Academy\, 4219 Bell Blvd\, Bayside\, NY 11361\, USA
END:VEVENT
BEGIN:VEVENT
DTSTART;TZID=America/New_York:20240407T123000
DTEND;TZID=America/New_York:20240407T140000
DTSTAMP:20260421T154849
CREATED:20240213T085947Z
LAST-MODIFIED:20240407T015955Z
UID:10001644-1712493000-1712498400@reconciledchurch.org
SUMMARY:Men's Group Meeting
DESCRIPTION:
URL:https://reconciledchurch.org/event/mens-group-meeting-3/
END:VEVENT
BEGIN:VEVENT
DTSTART;TZID=America/New_York:20240411T193000
DTEND;TZID=America/New_York:20240411T210000
DTSTAMP:20260421T154849
CREATED:20240209T084500Z
LAST-MODIFIED:20240411T023543Z
UID:10001515-1712863800-1712869200@reconciledchurch.org
SUMMARY:Prayer Meeting
DESCRIPTION:
URL:https://reconciledchurch.org/event/prayer-meeting-9/
END:VEVENT
END:VCALENDAR