BEGIN:VCALENDAR
VERSION:2.0
PRODID:-//Reconciled Church - ECPv6.15.20//NONSGML v1.0//EN
CALSCALE:GREGORIAN
METHOD:PUBLISH
X-ORIGINAL-URL:https://reconciledchurch.org
X-WR-CALDESC:Events for Reconciled Church
REFRESH-INTERVAL;VALUE=DURATION:PT1H
X-Robots-Tag:noindex
X-PUBLISHED-TTL:PT1H
BEGIN:VTIMEZONE
TZID:America/New_York
BEGIN:DAYLIGHT
TZOFFSETFROM:-0500
TZOFFSETTO:-0400
TZNAME:EDT
DTSTART:20220313T070000
END:DAYLIGHT
BEGIN:STANDARD
TZOFFSETFROM:-0400
TZOFFSETTO:-0500
TZNAME:EST
DTSTART:20221106T060000
END:STANDARD
BEGIN:DAYLIGHT
TZOFFSETFROM:-0500
TZOFFSETTO:-0400
TZNAME:EDT
DTSTART:20230312T070000
END:DAYLIGHT
BEGIN:STANDARD
TZOFFSETFROM:-0400
TZOFFSETTO:-0500
TZNAME:EST
DTSTART:20231105T060000
END:STANDARD
BEGIN:DAYLIGHT
TZOFFSETFROM:-0500
TZOFFSETTO:-0400
TZNAME:EDT
DTSTART:20240310T070000
END:DAYLIGHT
BEGIN:STANDARD
TZOFFSETFROM:-0400
TZOFFSETTO:-0500
TZNAME:EST
DTSTART:20241103T060000
END:STANDARD
END:VTIMEZONE
BEGIN:VEVENT
DTSTART;TZID=America/New_York:20231224T100000
DTEND;TZID=America/New_York:20231224T113000
DTSTAMP:20260421T185307
CREATED:20221129T065420Z
LAST-MODIFIED:20231224T052411Z
UID:10000983-1703412000-1703417400@reconciledchurch.org
SUMMARY:Worship Service
DESCRIPTION:2nd Floor
URL:https://reconciledchurch.org/event/worship-service-55/
LOCATION:New York Academy\, 99 Bell Blvd\, Bayside\, NY\, United States
GEO:40.772102;-73.774475
X-APPLE-STRUCTURED-LOCATION;VALUE=URI;X-ADDRESS=New York Academy 99 Bell Blvd Bayside NY United States;X-APPLE-RADIUS=500;X-TITLE=99 Bell Blvd:geo:-73.774475,40.772102
END:VEVENT
BEGIN:VEVENT
DTSTART;TZID=America/New_York:20231224T113000
DTEND;TZID=America/New_York:20231224T140000
DTSTAMP:20260421T185307
CREATED:20231018T002625Z
LAST-MODIFIED:20231224T052411Z
UID:10001454-1703417400-1703426400@reconciledchurch.org
SUMMARY:Christmas Eve Lunch + Party
DESCRIPTION:
URL:https://reconciledchurch.org/event/christmas-celebration-white-elephant/
END:VEVENT
BEGIN:VEVENT
DTSTART;TZID=America/New_York:20231225T100000
DTEND;TZID=America/New_York:20231225T103000
DTSTAMP:20260421T185307
CREATED:20221129T065420Z
LAST-MODIFIED:20231225T052422Z
UID:10000984-1703498400-1703500200@reconciledchurch.org
SUMMARY:Christmas Day Service
DESCRIPTION:
URL:https://reconciledchurch.org/event/christmas-day-service-2/
END:VEVENT
END:VCALENDAR