BEGIN:VCALENDAR
VERSION:2.0
PRODID:-//Reconciled Church - ECPv6.15.20//NONSGML v1.0//EN
CALSCALE:GREGORIAN
METHOD:PUBLISH
X-ORIGINAL-URL:https://reconciledchurch.org
X-WR-CALDESC:Events for Reconciled Church
REFRESH-INTERVAL;VALUE=DURATION:PT1H
X-Robots-Tag:noindex
X-PUBLISHED-TTL:PT1H
BEGIN:VTIMEZONE
TZID:America/New_York
BEGIN:DAYLIGHT
TZOFFSETFROM:-0500
TZOFFSETTO:-0400
TZNAME:EDT
DTSTART:20260308T070000
END:DAYLIGHT
BEGIN:STANDARD
TZOFFSETFROM:-0400
TZOFFSETTO:-0500
TZNAME:EST
DTSTART:20261101T060000
END:STANDARD
BEGIN:DAYLIGHT
TZOFFSETFROM:-0500
TZOFFSETTO:-0400
TZNAME:EDT
DTSTART:20270314T070000
END:DAYLIGHT
BEGIN:STANDARD
TZOFFSETFROM:-0400
TZOFFSETTO:-0500
TZNAME:EST
DTSTART:20271107T060000
END:STANDARD
BEGIN:DAYLIGHT
TZOFFSETFROM:-0500
TZOFFSETTO:-0400
TZNAME:EDT
DTSTART:20280312T070000
END:DAYLIGHT
BEGIN:STANDARD
TZOFFSETFROM:-0400
TZOFFSETTO:-0500
TZNAME:EST
DTSTART:20281105T060000
END:STANDARD
END:VTIMEZONE
BEGIN:VEVENT
DTSTART;TZID=America/New_York:20270704T100000
DTEND;TZID=America/New_York:20270704T113000
DTSTAMP:20260420T030651
CREATED:20250704T224140Z
LAST-MODIFIED:20260318T222307Z
UID:10002079-1814695200-1814700600@reconciledchurch.org
SUMMARY:Worship Service
DESCRIPTION:2nd Floor
URL:https://reconciledchurch.org/event/worship-service-239/
LOCATION:New York Academy\, 99 Bell Blvd\, Bayside\, NY\, United States
GEO:40.772102;-73.774475
X-APPLE-STRUCTURED-LOCATION;VALUE=URI;X-ADDRESS=New York Academy 99 Bell Blvd Bayside NY United States;X-APPLE-RADIUS=500;X-TITLE=99 Bell Blvd:geo:-73.774475,40.772102
END:VEVENT
BEGIN:VEVENT
DTSTART;TZID=America/New_York:20270704T123000
DTEND;TZID=America/New_York:20270704T140000
DTSTAMP:20260420T030651
CREATED:20250704T224140Z
LAST-MODIFIED:20260318T222307Z
UID:10002080-1814704200-1814709600@reconciledchurch.org
SUMMARY:Men's & Women's Group Meeting
DESCRIPTION:
URL:https://reconciledchurch.org/event/mens-womens-group-meeting-28/
END:VEVENT
BEGIN:VEVENT
DTSTART;TZID=America/New_York:20270707T193000
DTEND;TZID=America/New_York:20270707T203000
DTSTAMP:20260420T030651
CREATED:20250707T224314Z
LAST-MODIFIED:20260318T222307Z
UID:10002081-1814988600-1814992200@reconciledchurch.org
SUMMARY:Bible Study
DESCRIPTION:
URL:https://reconciledchurch.org/event/bible-study-291/
END:VEVENT
BEGIN:VEVENT
DTSTART;TZID=America/New_York:20270711T100000
DTEND;TZID=America/New_York:20270711T113000
DTSTAMP:20260420T030651
CREATED:20250711T230655Z
LAST-MODIFIED:20260318T222307Z
UID:10002082-1815300000-1815305400@reconciledchurch.org
SUMMARY:Worship Service
DESCRIPTION:2nd Floor
URL:https://reconciledchurch.org/event/worship-service-240/
LOCATION:New York Academy\, 99 Bell Blvd\, Bayside\, NY\, United States
GEO:40.772102;-73.774475
X-APPLE-STRUCTURED-LOCATION;VALUE=URI;X-ADDRESS=New York Academy 99 Bell Blvd Bayside NY United States;X-APPLE-RADIUS=500;X-TITLE=99 Bell Blvd:geo:-73.774475,40.772102
END:VEVENT
BEGIN:VEVENT
DTSTART;TZID=America/New_York:20270711T123000
DTEND;TZID=America/New_York:20270711T143000
DTSTAMP:20260420T030651
CREATED:20250711T230656Z
LAST-MODIFIED:20260318T222307Z
UID:10002083-1815309000-1815316200@reconciledchurch.org
SUMMARY:Outreach Sunday
DESCRIPTION:
URL:https://reconciledchurch.org/event/outreach-sunday-24/
END:VEVENT
BEGIN:VEVENT
DTSTART;TZID=America/New_York:20270714T193000
DTEND;TZID=America/New_York:20270714T203000
DTSTAMP:20260420T030651
CREATED:20250714T231151Z
LAST-MODIFIED:20260318T222307Z
UID:10002084-1815593400-1815597000@reconciledchurch.org
SUMMARY:Bible Study
DESCRIPTION:
URL:https://reconciledchurch.org/event/bible-study-292/
END:VEVENT
BEGIN:VEVENT
DTSTART;TZID=America/New_York:20270718T100000
DTEND;TZID=America/New_York:20270718T113000
DTSTAMP:20260420T030651
CREATED:20250718T232646Z
LAST-MODIFIED:20260318T222308Z
UID:10002085-1815904800-1815910200@reconciledchurch.org
SUMMARY:Worship Service
DESCRIPTION:2nd Floor
URL:https://reconciledchurch.org/event/worship-service-241/
LOCATION:New York Academy\, 99 Bell Blvd\, Bayside\, NY\, United States
GEO:40.772102;-73.774475
X-APPLE-STRUCTURED-LOCATION;VALUE=URI;X-ADDRESS=New York Academy 99 Bell Blvd Bayside NY United States;X-APPLE-RADIUS=500;X-TITLE=99 Bell Blvd:geo:-73.774475,40.772102
END:VEVENT
BEGIN:VEVENT
DTSTART;TZID=America/New_York:20270721T193000
DTEND;TZID=America/New_York:20270721T203000
DTSTAMP:20260420T030651
CREATED:20250721T232832Z
LAST-MODIFIED:20260318T222308Z
UID:10002086-1816198200-1816201800@reconciledchurch.org
SUMMARY:Bible Study
DESCRIPTION:
URL:https://reconciledchurch.org/event/bible-study-293/
END:VEVENT
BEGIN:VEVENT
DTSTART;TZID=America/New_York:20270725T100000
DTEND;TZID=America/New_York:20270725T113000
DTSTAMP:20260420T030651
CREATED:20250725T234110Z
LAST-MODIFIED:20260318T222308Z
UID:10002087-1816509600-1816515000@reconciledchurch.org
SUMMARY:Worship Service
DESCRIPTION:2nd Floor
URL:https://reconciledchurch.org/event/worship-service-242/
LOCATION:New York Academy\, 99 Bell Blvd\, Bayside\, NY\, United States
GEO:40.772102;-73.774475
X-APPLE-STRUCTURED-LOCATION;VALUE=URI;X-ADDRESS=New York Academy 99 Bell Blvd Bayside NY United States;X-APPLE-RADIUS=500;X-TITLE=99 Bell Blvd:geo:-73.774475,40.772102
END:VEVENT
BEGIN:VEVENT
DTSTART;TZID=America/New_York:20270728T193000
DTEND;TZID=America/New_York:20270728T203000
DTSTAMP:20260420T030651
CREATED:20250728T235707Z
LAST-MODIFIED:20260318T222308Z
UID:10002088-1816803000-1816806600@reconciledchurch.org
SUMMARY:Bible Study
DESCRIPTION:
URL:https://reconciledchurch.org/event/bible-study-294/
END:VEVENT
END:VCALENDAR