BEGIN:VCALENDAR
VERSION:2.0
PRODID:-//Reconciled Church - ECPv6.15.20//NONSGML v1.0//EN
CALSCALE:GREGORIAN
METHOD:PUBLISH
X-ORIGINAL-URL:https://reconciledchurch.org
X-WR-CALDESC:Events for Reconciled Church
REFRESH-INTERVAL;VALUE=DURATION:PT1H
X-Robots-Tag:noindex
X-PUBLISHED-TTL:PT1H
BEGIN:VTIMEZONE
TZID:America/New_York
BEGIN:DAYLIGHT
TZOFFSETFROM:-0500
TZOFFSETTO:-0400
TZNAME:EDT
DTSTART:20230312T070000
END:DAYLIGHT
BEGIN:STANDARD
TZOFFSETFROM:-0400
TZOFFSETTO:-0500
TZNAME:EST
DTSTART:20231105T060000
END:STANDARD
BEGIN:DAYLIGHT
TZOFFSETFROM:-0500
TZOFFSETTO:-0400
TZNAME:EDT
DTSTART:20240310T070000
END:DAYLIGHT
BEGIN:STANDARD
TZOFFSETFROM:-0400
TZOFFSETTO:-0500
TZNAME:EST
DTSTART:20241103T060000
END:STANDARD
BEGIN:DAYLIGHT
TZOFFSETFROM:-0500
TZOFFSETTO:-0400
TZNAME:EDT
DTSTART:20250309T070000
END:DAYLIGHT
BEGIN:STANDARD
TZOFFSETFROM:-0400
TZOFFSETTO:-0500
TZNAME:EST
DTSTART:20251102T060000
END:STANDARD
END:VTIMEZONE
BEGIN:VEVENT
DTSTART;TZID=America/New_York:20241003T193000
DTEND;TZID=America/New_York:20241003T210000
DTSTAMP:20260419T235045
CREATED:20240209T084517Z
LAST-MODIFIED:20241003T011112Z
UID:10001560-1727983800-1727989200@reconciledchurch.org
SUMMARY:Prayer Meeting
DESCRIPTION:
URL:https://reconciledchurch.org/event/prayer-meeting-34/
END:VEVENT
BEGIN:VEVENT
DTSTART;TZID=America/New_York:20241006T100000
DTEND;TZID=America/New_York:20241006T113000
DTSTAMP:20260419T235045
CREATED:20221129T065453Z
LAST-MODIFIED:20241006T012604Z
UID:10001087-1728208800-1728214200@reconciledchurch.org
SUMMARY:Worship Service
DESCRIPTION:2nd Floor
URL:https://reconciledchurch.org/event/worship-service-96/
LOCATION:New York Academy\, 99 Bell Blvd\, Bayside\, NY\, United States
GEO:40.772102;-73.774475
X-APPLE-STRUCTURED-LOCATION;VALUE=URI;X-ADDRESS=New York Academy 99 Bell Blvd Bayside NY United States;X-APPLE-RADIUS=500;X-TITLE=99 Bell Blvd:geo:-73.774475,40.772102
END:VEVENT
BEGIN:VEVENT
DTSTART;TZID=America/New_York:20241006T123000
DTEND;TZID=America/New_York:20241006T140000
DTSTAMP:20260419T235045
CREATED:20240213T085957Z
LAST-MODIFIED:20241006T012604Z
UID:10001653-1728217800-1728223200@reconciledchurch.org
SUMMARY:Men's Group Meeting
DESCRIPTION:
URL:https://reconciledchurch.org/event/mens-group-meeting-9/
END:VEVENT
BEGIN:VEVENT
DTSTART;TZID=America/New_York:20241010T193000
DTEND;TZID=America/New_York:20241010T210000
DTSTAMP:20260419T235045
CREATED:20240209T084517Z
LAST-MODIFIED:20241010T014107Z
UID:10001561-1728588600-1728594000@reconciledchurch.org
SUMMARY:Prayer Meeting
DESCRIPTION:
URL:https://reconciledchurch.org/event/prayer-meeting-35/
END:VEVENT
BEGIN:VEVENT
DTSTART;TZID=America/New_York:20241013T100000
DTEND;TZID=America/New_York:20241013T113000
DTSTAMP:20260419T235045
CREATED:20221129T065453Z
LAST-MODIFIED:20241013T014040Z
UID:10001089-1728813600-1728819000@reconciledchurch.org
SUMMARY:Worship Service
DESCRIPTION:2nd Floor
URL:https://reconciledchurch.org/event/worship-service-97/
LOCATION:New York Academy\, 99 Bell Blvd\, Bayside\, NY\, United States
GEO:40.772102;-73.774475
X-APPLE-STRUCTURED-LOCATION;VALUE=URI;X-ADDRESS=New York Academy 99 Bell Blvd Bayside NY United States;X-APPLE-RADIUS=500;X-TITLE=99 Bell Blvd:geo:-73.774475,40.772102
END:VEVENT
BEGIN:VEVENT
DTSTART;TZID=America/New_York:20241017T193000
DTEND;TZID=America/New_York:20241017T210000
DTSTAMP:20260419T235045
CREATED:20240209T084518Z
LAST-MODIFIED:20241017T014039Z
UID:10001562-1729193400-1729198800@reconciledchurch.org
SUMMARY:Prayer Meeting
DESCRIPTION:
URL:https://reconciledchurch.org/event/prayer-meeting-36/
END:VEVENT
BEGIN:VEVENT
DTSTART;TZID=America/New_York:20241020T100000
DTEND;TZID=America/New_York:20241020T113000
DTSTAMP:20260419T235045
CREATED:20221129T065454Z
LAST-MODIFIED:20241020T014115Z
UID:10001091-1729418400-1729423800@reconciledchurch.org
SUMMARY:Worship Service
DESCRIPTION:2nd Floor
URL:https://reconciledchurch.org/event/worship-service-98/
LOCATION:New York Academy\, 99 Bell Blvd\, Bayside\, NY\, United States
GEO:40.772102;-73.774475
X-APPLE-STRUCTURED-LOCATION;VALUE=URI;X-ADDRESS=New York Academy 99 Bell Blvd Bayside NY United States;X-APPLE-RADIUS=500;X-TITLE=99 Bell Blvd:geo:-73.774475,40.772102
END:VEVENT
BEGIN:VEVENT
DTSTART;TZID=America/New_York:20241024T193000
DTEND;TZID=America/New_York:20241024T210000
DTSTAMP:20260419T235045
CREATED:20240209T084518Z
LAST-MODIFIED:20241024T022608Z
UID:10001563-1729798200-1729803600@reconciledchurch.org
SUMMARY:Prayer Meeting
DESCRIPTION:
URL:https://reconciledchurch.org/event/prayer-meeting-37/
END:VEVENT
BEGIN:VEVENT
DTSTART;TZID=America/New_York:20241027T100000
DTEND;TZID=America/New_York:20241027T113000
DTSTAMP:20260419T235045
CREATED:20221129T065454Z
LAST-MODIFIED:20241027T024109Z
UID:10001093-1730023200-1730028600@reconciledchurch.org
SUMMARY:Worship Service
DESCRIPTION:2nd Floor
URL:https://reconciledchurch.org/event/worship-service-99/
LOCATION:New York Academy\, 99 Bell Blvd\, Bayside\, NY\, United States
GEO:40.772102;-73.774475
X-APPLE-STRUCTURED-LOCATION;VALUE=URI;X-ADDRESS=New York Academy 99 Bell Blvd Bayside NY United States;X-APPLE-RADIUS=500;X-TITLE=99 Bell Blvd:geo:-73.774475,40.772102
END:VEVENT
BEGIN:VEVENT
DTSTART;TZID=America/New_York:20241031T193000
DTEND;TZID=America/New_York:20241031T210000
DTSTAMP:20260419T235045
CREATED:20240209T084519Z
LAST-MODIFIED:20241030T024037Z
UID:10001564-1730403000-1730408400@reconciledchurch.org
SUMMARY:Prayer Meeting
DESCRIPTION:
URL:https://reconciledchurch.org/event/prayer-meeting-38/
END:VEVENT
END:VCALENDAR