BEGIN:VCALENDAR
VERSION:2.0
PRODID:-//Reconciled Church - ECPv6.15.20//NONSGML v1.0//EN
CALSCALE:GREGORIAN
METHOD:PUBLISH
X-WR-CALNAME:Reconciled Church
X-ORIGINAL-URL:https://reconciledchurch.org
X-WR-CALDESC:Events for Reconciled Church
REFRESH-INTERVAL;VALUE=DURATION:PT1H
X-Robots-Tag:noindex
X-PUBLISHED-TTL:PT1H
BEGIN:VTIMEZONE
TZID:America/New_York
BEGIN:DAYLIGHT
TZOFFSETFROM:-0500
TZOFFSETTO:-0400
TZNAME:EDT
DTSTART:20230312T070000
END:DAYLIGHT
BEGIN:STANDARD
TZOFFSETFROM:-0400
TZOFFSETTO:-0500
TZNAME:EST
DTSTART:20231105T060000
END:STANDARD
BEGIN:DAYLIGHT
TZOFFSETFROM:-0500
TZOFFSETTO:-0400
TZNAME:EDT
DTSTART:20240310T070000
END:DAYLIGHT
BEGIN:STANDARD
TZOFFSETFROM:-0400
TZOFFSETTO:-0500
TZNAME:EST
DTSTART:20241103T060000
END:STANDARD
BEGIN:DAYLIGHT
TZOFFSETFROM:-0500
TZOFFSETTO:-0400
TZNAME:EDT
DTSTART:20250309T070000
END:DAYLIGHT
BEGIN:STANDARD
TZOFFSETFROM:-0400
TZOFFSETTO:-0500
TZNAME:EST
DTSTART:20251102T060000
END:STANDARD
END:VTIMEZONE
BEGIN:VEVENT
DTSTART;TZID=America/New_York:20240704T193000
DTEND;TZID=America/New_York:20240704T210000
DTSTAMP:20260420T193500
CREATED:20240209T084508Z
LAST-MODIFIED:20240704T183723Z
UID:10001274-1720121400-1720126800@reconciledchurch.org
SUMMARY:Prayer Meeting
DESCRIPTION:
URL:https://reconciledchurch.org/event/prayer-meeting-21/
END:VEVENT
BEGIN:VEVENT
DTSTART;TZID=America/New_York:20240707T100000
DTEND;TZID=America/New_York:20240707T113000
DTSTAMP:20260420T193500
CREATED:20221129T065433Z
LAST-MODIFIED:20240706T185136Z
UID:10000953-1720346400-1720351800@reconciledchurch.org
SUMMARY:Worship Service
DESCRIPTION:2nd Floor
URL:https://reconciledchurch.org/event/worship-service-83/
LOCATION:New York Academy\, 99 Bell Blvd\, Bayside\, NY\, United States
GEO:40.772102;-73.774475
X-APPLE-STRUCTURED-LOCATION;VALUE=URI;X-ADDRESS=New York Academy 99 Bell Blvd Bayside NY United States;X-APPLE-RADIUS=500;X-TITLE=99 Bell Blvd:geo:-73.774475,40.772102
END:VEVENT
BEGIN:VEVENT
DTSTART;TZID=America/New_York:20240707T123000
DTEND;TZID=America/New_York:20240707T140000
DTSTAMP:20260420T193500
CREATED:20240213T085952Z
LAST-MODIFIED:20240706T185136Z
UID:10001649-1720355400-1720360800@reconciledchurch.org
SUMMARY:Men's Group Meeting
DESCRIPTION:
URL:https://reconciledchurch.org/event/mens-group-meeting-6/
END:VEVENT
BEGIN:VEVENT
DTSTART;TZID=America/New_York:20240711T193000
DTEND;TZID=America/New_York:20240711T210000
DTSTAMP:20260420T193500
CREATED:20240209T084509Z
LAST-MODIFIED:20240711T192137Z
UID:10001518-1720726200-1720731600@reconciledchurch.org
SUMMARY:Prayer Meeting
DESCRIPTION:
URL:https://reconciledchurch.org/event/prayer-meeting-22/
END:VEVENT
BEGIN:VEVENT
DTSTART;TZID=America/New_York:20240714T100000
DTEND;TZID=America/New_York:20240714T113000
DTSTAMP:20260420T193500
CREATED:20221129T065433Z
LAST-MODIFIED:20240713T193713Z
UID:10000958-1720951200-1720956600@reconciledchurch.org
SUMMARY:Worship Service
DESCRIPTION:2nd Floor
URL:https://reconciledchurch.org/event/worship-service-84/
LOCATION:New York Academy\, 99 Bell Blvd\, Bayside\, NY\, United States
GEO:40.772102;-73.774475
X-APPLE-STRUCTURED-LOCATION;VALUE=URI;X-ADDRESS=New York Academy 99 Bell Blvd Bayside NY United States;X-APPLE-RADIUS=500;X-TITLE=99 Bell Blvd:geo:-73.774475,40.772102
END:VEVENT
BEGIN:VEVENT
DTSTART;TZID=America/New_York:20240714T130000
DTEND;TZID=America/New_York:20240714T180000
DTSTAMP:20260420T193500
CREATED:20240213T085952Z
LAST-MODIFIED:20240714T193637Z
UID:10001648-1720962000-1720980000@reconciledchurch.org
SUMMARY:Graduate Celebration (Potluck)
DESCRIPTION:
URL:https://reconciledchurch.org/event/graduate-celebration/
END:VEVENT
BEGIN:VEVENT
DTSTART;TZID=America/New_York:20240718T193000
DTEND;TZID=America/New_York:20240718T210000
DTSTAMP:20260420T193500
CREATED:20240209T084509Z
LAST-MODIFIED:20240718T200637Z
UID:10001519-1721331000-1721336400@reconciledchurch.org
SUMMARY:Prayer Meeting
DESCRIPTION:
URL:https://reconciledchurch.org/event/prayer-meeting-23/
END:VEVENT
BEGIN:VEVENT
DTSTART;TZID=America/New_York:20240721T100000
DTEND;TZID=America/New_York:20240721T113000
DTSTAMP:20260420T193500
CREATED:20221129T065434Z
LAST-MODIFIED:20240720T200638Z
UID:10000962-1721556000-1721561400@reconciledchurch.org
SUMMARY:Worship Service
DESCRIPTION:2nd Floor
URL:https://reconciledchurch.org/event/worship-service-85/
LOCATION:New York Academy\, 99 Bell Blvd\, Bayside\, NY\, United States
GEO:40.772102;-73.774475
X-APPLE-STRUCTURED-LOCATION;VALUE=URI;X-ADDRESS=New York Academy 99 Bell Blvd Bayside NY United States;X-APPLE-RADIUS=500;X-TITLE=99 Bell Blvd:geo:-73.774475,40.772102
END:VEVENT
BEGIN:VEVENT
DTSTART;TZID=America/New_York:20240725T193000
DTEND;TZID=America/New_York:20240725T210000
DTSTAMP:20260420T193500
CREATED:20240209T084510Z
LAST-MODIFIED:20240725T202539Z
UID:10001520-1721935800-1721941200@reconciledchurch.org
SUMMARY:Prayer Meeting
DESCRIPTION:
URL:https://reconciledchurch.org/event/prayer-meeting-24/
END:VEVENT
BEGIN:VEVENT
DTSTART;TZID=America/New_York:20240728T100000
DTEND;TZID=America/New_York:20240728T113000
DTSTAMP:20260420T193500
CREATED:20221129T065434Z
LAST-MODIFIED:20240727T202625Z
UID:10000966-1722160800-1722166200@reconciledchurch.org
SUMMARY:Worship Service
DESCRIPTION:2nd Floor
URL:https://reconciledchurch.org/event/worship-service-86/
LOCATION:New York Academy\, 99 Bell Blvd\, Bayside\, NY\, United States
GEO:40.772102;-73.774475
X-APPLE-STRUCTURED-LOCATION;VALUE=URI;X-ADDRESS=New York Academy 99 Bell Blvd Bayside NY United States;X-APPLE-RADIUS=500;X-TITLE=99 Bell Blvd:geo:-73.774475,40.772102
END:VEVENT
END:VCALENDAR