BEGIN:VCALENDAR
VERSION:2.0
PRODID:-//Reconciled Church - ECPv6.15.20//NONSGML v1.0//EN
CALSCALE:GREGORIAN
METHOD:PUBLISH
X-WR-CALNAME:Reconciled Church
X-ORIGINAL-URL:https://reconciledchurch.org
X-WR-CALDESC:Events for Reconciled Church
REFRESH-INTERVAL;VALUE=DURATION:PT1H
X-Robots-Tag:noindex
X-PUBLISHED-TTL:PT1H
BEGIN:VTIMEZONE
TZID:America/New_York
BEGIN:DAYLIGHT
TZOFFSETFROM:-0500
TZOFFSETTO:-0400
TZNAME:EDT
DTSTART:20230312T070000
END:DAYLIGHT
BEGIN:STANDARD
TZOFFSETFROM:-0400
TZOFFSETTO:-0500
TZNAME:EST
DTSTART:20231105T060000
END:STANDARD
BEGIN:DAYLIGHT
TZOFFSETFROM:-0500
TZOFFSETTO:-0400
TZNAME:EDT
DTSTART:20240310T070000
END:DAYLIGHT
BEGIN:STANDARD
TZOFFSETFROM:-0400
TZOFFSETTO:-0500
TZNAME:EST
DTSTART:20241103T060000
END:STANDARD
BEGIN:DAYLIGHT
TZOFFSETFROM:-0500
TZOFFSETTO:-0400
TZNAME:EDT
DTSTART:20250309T070000
END:DAYLIGHT
BEGIN:STANDARD
TZOFFSETFROM:-0400
TZOFFSETTO:-0500
TZNAME:EST
DTSTART:20251102T060000
END:STANDARD
END:VTIMEZONE
BEGIN:VEVENT
DTSTART;TZID=America/New_York:20240602T100000
DTEND;TZID=America/New_York:20240602T113000
DTSTAMP:20260420T212223
CREATED:20221129T065430Z
LAST-MODIFIED:20240602T073031Z
UID:10001051-1717322400-1717327800@reconciledchurch.org
SUMMARY:Worship Service
DESCRIPTION:2nd Floor
URL:https://reconciledchurch.org/event/worship-service-78/
LOCATION:New York Academy\, 4219 Bell Blvd\, Bayside\, NY 11361\, USA
END:VEVENT
BEGIN:VEVENT
DTSTART;TZID=America/New_York:20240602T123000
DTEND;TZID=America/New_York:20240602T140000
DTSTAMP:20260420T212223
CREATED:20240213T085950Z
LAST-MODIFIED:20240602T073031Z
UID:10001646-1717331400-1717336800@reconciledchurch.org
SUMMARY:Men's Group Meeting
DESCRIPTION:
URL:https://reconciledchurch.org/event/mens-group-meeting-5/
END:VEVENT
BEGIN:VEVENT
DTSTART;TZID=America/New_York:20240606T193000
DTEND;TZID=America/New_York:20240606T210000
DTSTAMP:20260420T212223
CREATED:20240209T084506Z
LAST-MODIFIED:20240606T074528Z
UID:10001268-1717702200-1717707600@reconciledchurch.org
SUMMARY:Prayer Meeting
DESCRIPTION:
URL:https://reconciledchurch.org/event/prayer-meeting-17/
END:VEVENT
BEGIN:VEVENT
DTSTART;VALUE=DATE:20240608
DTEND;VALUE=DATE:20240609
DTSTAMP:20260420T212223
CREATED:20240213T085950Z
LAST-MODIFIED:20240608T074917Z
UID:10001647-1717804800-1717891199@reconciledchurch.org
SUMMARY:Life group BBQ/Field Day
DESCRIPTION:
URL:https://reconciledchurch.org/event/life-group-bbq-field-day/
END:VEVENT
BEGIN:VEVENT
DTSTART;TZID=America/New_York:20240609T100000
DTEND;TZID=America/New_York:20240609T113000
DTSTAMP:20260420T212223
CREATED:20221129T065431Z
LAST-MODIFIED:20240609T074832Z
UID:10001053-1717927200-1717932600@reconciledchurch.org
SUMMARY:Worship Service
DESCRIPTION:2nd Floor
URL:https://reconciledchurch.org/event/worship-service-79/
LOCATION:New York Academy\, 4219 Bell Blvd\, Bayside\, NY 11361\, USA
END:VEVENT
BEGIN:VEVENT
DTSTART;TZID=America/New_York:20240613T193000
DTEND;TZID=America/New_York:20240613T210000
DTSTAMP:20260420T212223
CREATED:20240209T084507Z
LAST-MODIFIED:20240613T164019Z
UID:10001270-1718307000-1718312400@reconciledchurch.org
SUMMARY:Prayer Meeting
DESCRIPTION:
URL:https://reconciledchurch.org/event/prayer-meeting-18/
END:VEVENT
BEGIN:VEVENT
DTSTART;TZID=America/New_York:20240616T100000
DTEND;TZID=America/New_York:20240616T113000
DTSTAMP:20260420T212223
CREATED:20221129T065431Z
LAST-MODIFIED:20240615T170419Z
UID:10001055-1718532000-1718537400@reconciledchurch.org
SUMMARY:Worship Service
DESCRIPTION:2nd Floor
URL:https://reconciledchurch.org/event/worship-service-80/
LOCATION:New York Academy\, 99 Bell Blvd\, Bayside\, NY\, United States
GEO:40.772102;-73.774475
X-APPLE-STRUCTURED-LOCATION;VALUE=URI;X-ADDRESS=New York Academy 99 Bell Blvd Bayside NY United States;X-APPLE-RADIUS=500;X-TITLE=99 Bell Blvd:geo:-73.774475,40.772102
END:VEVENT
BEGIN:VEVENT
DTSTART;TZID=America/New_York:20240620T193000
DTEND;TZID=America/New_York:20240620T210000
DTSTAMP:20260420T212223
CREATED:20240209T084507Z
LAST-MODIFIED:20240620T171832Z
UID:10001272-1718911800-1718917200@reconciledchurch.org
SUMMARY:Prayer Meeting
DESCRIPTION:
URL:https://reconciledchurch.org/event/prayer-meeting-19/
END:VEVENT
BEGIN:VEVENT
DTSTART;TZID=America/New_York:20240623T100000
DTEND;TZID=America/New_York:20240623T113000
DTSTAMP:20260420T212223
CREATED:20221129T065432Z
LAST-MODIFIED:20240622T171834Z
UID:10001057-1719136800-1719142200@reconciledchurch.org
SUMMARY:Worship Service
DESCRIPTION:2nd Floor
URL:https://reconciledchurch.org/event/worship-service-81/
LOCATION:New York Academy\, 99 Bell Blvd\, Bayside\, NY\, United States
GEO:40.772102;-73.774475
X-APPLE-STRUCTURED-LOCATION;VALUE=URI;X-ADDRESS=New York Academy 99 Bell Blvd Bayside NY United States;X-APPLE-RADIUS=500;X-TITLE=99 Bell Blvd:geo:-73.774475,40.772102
END:VEVENT
BEGIN:VEVENT
DTSTART;TZID=America/New_York:20240627T193000
DTEND;TZID=America/New_York:20240627T210000
DTSTAMP:20260420T212223
CREATED:20240209T084508Z
LAST-MODIFIED:20240627T180336Z
UID:10001273-1719516600-1719522000@reconciledchurch.org
SUMMARY:Prayer Meeting
DESCRIPTION:
URL:https://reconciledchurch.org/event/prayer-meeting-20/
END:VEVENT
BEGIN:VEVENT
DTSTART;TZID=America/New_York:20240630T100000
DTEND;TZID=America/New_York:20240630T113000
DTSTAMP:20260420T212223
CREATED:20221129T065432Z
LAST-MODIFIED:20240629T180424Z
UID:10000949-1719741600-1719747000@reconciledchurch.org
SUMMARY:Worship Service
DESCRIPTION:2nd Floor
URL:https://reconciledchurch.org/event/worship-service-82/
LOCATION:New York Academy\, 99 Bell Blvd\, Bayside\, NY\, United States
GEO:40.772102;-73.774475
X-APPLE-STRUCTURED-LOCATION;VALUE=URI;X-ADDRESS=New York Academy 99 Bell Blvd Bayside NY United States;X-APPLE-RADIUS=500;X-TITLE=99 Bell Blvd:geo:-73.774475,40.772102
END:VEVENT
END:VCALENDAR