BEGIN:VCALENDAR
VERSION:2.0
PRODID:-//Reconciled Church - ECPv6.15.20//NONSGML v1.0//EN
CALSCALE:GREGORIAN
METHOD:PUBLISH
X-ORIGINAL-URL:https://reconciledchurch.org
X-WR-CALDESC:Events for Reconciled Church
REFRESH-INTERVAL;VALUE=DURATION:PT1H
X-Robots-Tag:noindex
X-PUBLISHED-TTL:PT1H
BEGIN:VTIMEZONE
TZID:America/New_York
BEGIN:DAYLIGHT
TZOFFSETFROM:-0500
TZOFFSETTO:-0400
TZNAME:EDT
DTSTART:20230312T070000
END:DAYLIGHT
BEGIN:STANDARD
TZOFFSETFROM:-0400
TZOFFSETTO:-0500
TZNAME:EST
DTSTART:20231105T060000
END:STANDARD
BEGIN:DAYLIGHT
TZOFFSETFROM:-0500
TZOFFSETTO:-0400
TZNAME:EDT
DTSTART:20240310T070000
END:DAYLIGHT
BEGIN:STANDARD
TZOFFSETFROM:-0400
TZOFFSETTO:-0500
TZNAME:EST
DTSTART:20241103T060000
END:STANDARD
BEGIN:DAYLIGHT
TZOFFSETFROM:-0500
TZOFFSETTO:-0400
TZNAME:EDT
DTSTART:20250309T070000
END:DAYLIGHT
BEGIN:STANDARD
TZOFFSETFROM:-0400
TZOFFSETTO:-0500
TZNAME:EST
DTSTART:20251102T060000
END:STANDARD
END:VTIMEZONE
BEGIN:VEVENT
DTSTART;TZID=America/New_York:20240103T060000
DTEND;TZID=America/New_York:20240103T063000
DTSTAMP:20260421T153646
CREATED:20240101T053837Z
LAST-MODIFIED:20240103T053836Z
UID:10001477-1704261600-1704263400@reconciledchurch.org
SUMMARY:Early Morning Prayer
DESCRIPTION:Topic: Early Morning PrayerTime: Jan 2-5\, 2024 06:00 AM Eastern Time (US and Canada) \nJoin Zoom Meetinghttps://us02web.zoom.us/j/83190689575?pwd=K21ZOUNSOHhJTERrdzI5dEFySHp3UT09 \nMeeting ID: 831 9068 9575Passcode: 891979 \n— \nOne tap mobile+16469313860\,\,83190689575#\,\,\,\,*891979# US+16465588656\,\,83190689575#\,\,\,\,*891979# US (New York) \n— \nDial by your location• +1 646 931 3860 US• +1 646 558 8656 US (New York)
URL:https://reconciledchurch.org/event/early-morning-prayer-2/
END:VEVENT
END:VCALENDAR